BEGIN:VCALENDAR
VERSION:2.0
PRODID:-//Acme Widgets\, Inc.//NONSGML ExportToCalendar//EN
CALSCALE:GREGORIAN
BEGIN:VEVENT
DTSTAMP:20260425T144702Z
UID:740e7e7a-755c-46a9-a5e4-43f7d0dd7da1
DTSTART:20260425T110000
DTEND:20260425T113000
DESCRIPTION:Inspection for 25B April Crescent\, GRANTHAM FARM NSW 2765
LOCATION:25B April Crescent\, GRANTHAM FARM NSW 2765
SUMMARY:25B April Crescent\, GRANTHAM FARM NSW 2765
END:VEVENT
END:VCALENDAR
